BEGIN:VCALENDAR
VERSION:2.0
PRODID:-//Veterans Advocates Community of Practice Network - ECPv5.3.2.1//NONSGML v1.0//EN
CALSCALE:GREGORIAN
METHOD:PUBLISH
X-WR-CALNAME:Veterans Advocates Community of Practice Network
X-ORIGINAL-URL:https://veteransadvocate.net.au
X-WR-CALDESC:Events for Veterans Advocates Community of Practice Network
BEGIN:VTIMEZONE
TZID:Australia/Sydney
BEGIN:STANDARD
TZOFFSETFROM:+1100
TZOFFSETTO:+1000
TZNAME:AEST
DTSTART:20210403T160000
END:STANDARD
BEGIN:DAYLIGHT
TZOFFSETFROM:+1000
TZOFFSETTO:+1100
TZNAME:AEDT
DTSTART:20211002T160000
END:DAYLIGHT
END:VTIMEZONE
BEGIN:VEVENT
DTSTART;TZID=Australia/Sydney:20210525T083000
DTEND;TZID=Australia/Sydney:20210525T163000
DTSTAMP:20210226T103112
CREATED:20201124T002415Z
LAST-MODIFIED:20201124T002442Z
UID:163-1621931400-1621960200@veteransadvocate.net.au
SUMMARY:Mid North Coast Veterans' Advocates' Seminar 2021
DESCRIPTION:The Mid North Coast (NSW) Veterans’ Advocates’  Seminar was postponed in 2020 and now has been rescheduled to the 25th May 2021. The Seminar will be held at the Hexham Bowling Club\, Old Maitland Road\, Hexham from 08.30 am to 4.30 pm.
URL:https://veteransadvocate.net.au/event/mid-north-coast-veterans-advocates-seminar-2012/
LOCATION:Hexham Bowling Club\, 290 Old Maitland Rd\, Hexham\, NSW\, 2322\, Australia
END:VEVENT
END:VCALENDAR